BEGIN:VCALENDAR
VERSION:2.0
PRODID:-//KAPOW Wrestling - ECPv6.9.0//NONSGML v1.0//EN
CALSCALE:GREGORIAN
METHOD:PUBLISH
X-ORIGINAL-URL:https://kapowwrestling.co.uk
X-WR-CALDESC:Events for KAPOW Wrestling
REFRESH-INTERVAL;VALUE=DURATION:PT1H
X-Robots-Tag:noindex
X-PUBLISHED-TTL:PT1H
BEGIN:VTIMEZONE
TZID:UTC
BEGIN:STANDARD
TZOFFSETFROM:+0000
TZOFFSETTO:+0000
TZNAME:UTC
DTSTART:20220101T000000
END:STANDARD
END:VTIMEZONE
BEGIN:VEVENT
DTSTART;TZID=UTC:20220417T143000
DTEND;TZID=UTC:20220417T170000
DTSTAMP:20260424T084119
CREATED:20220221T201501Z
LAST-MODIFIED:20220221T201501Z
UID:8333-1650205800-1650214800@kapowwrestling.co.uk
SUMMARY:Back in Gosport
DESCRIPTION:Kapow and SWF are back in Gosport and we are bringing former TNA champion Doug Williams with us.\nWe bring you an evening of the best wrestling in the UK including tag team and one on one matches.\n\nCelebrating a birthday or special occasion?\nGet in touch and find out what we can do to make this event extra special for you and your party.\n\n\nPlease note we do not send out physical tickets but ask to see PayPal recipt as proof of purchase.
URL:https://kapowwrestling.co.uk/event/back-in-gosport/
LOCATION:Thorngate Hall Members Bar\, 71 Bury Road\, Gosport\, PO12 3QX
END:VEVENT
END:VCALENDAR