BEGIN:VCALENDAR
VERSION:2.0
PRODID:-//KAPOW Wrestling - ECPv6.9.0//NONSGML v1.0//EN
CALSCALE:GREGORIAN
METHOD:PUBLISH
X-ORIGINAL-URL:https://kapowwrestling.co.uk
X-WR-CALDESC:Events for KAPOW Wrestling
REFRESH-INTERVAL;VALUE=DURATION:PT1H
X-Robots-Tag:noindex
X-PUBLISHED-TTL:PT1H
BEGIN:VTIMEZONE
TZID:UTC
BEGIN:STANDARD
TZOFFSETFROM:+0000
TZOFFSETTO:+0000
TZNAME:UTC
DTSTART:20250101T000000
END:STANDARD
END:VTIMEZONE
BEGIN:VEVENT
DTSTART;TZID=UTC:20250222T183000
DTEND;TZID=UTC:20250222T210000
DTSTAMP:20260424T233056
CREATED:20241203T165716Z
LAST-MODIFIED:20241203T165716Z
UID:27420-1740249000-1740258000@kapowwrestling.co.uk
SUMMARY:Live Wrestling comes to Burgess Hill
DESCRIPTION:Kapow and SWF Wrestling Live at the Cyprus Hall\, Burgess Hill! \nGet ready for an evening of hard-hitting\, high-flying action as Kapow and SWF bring the best of UK wrestling to Burgess Hill! Enjoy an adrenaline-pumping night featuring thrilling tag team and one-on-one matches that will leave you on the edge of your seat. \nSpecial Occasions? We’ve Got You Covered!\nWhether you’re celebrating a birthday or another special event\, get in touch with us! Let us know how we can help make your night unforgettable with custom experiences for you and your party. \nImportant Ticket Info:\nPlease note\, we DO NOT send out physical tickets. We kindly ask to see your receipt as proof of purchase upon arrival.
URL:https://kapowwrestling.co.uk/event/live-wrestling-comes-to-burgess-hill-2/
LOCATION:Cyprus Hall\, Cyprus Road\, Burgess Hill\, RH15 8DX
END:VEVENT
END:VCALENDAR