BEGIN:VCALENDAR
VERSION:2.0
PRODID:-//KAPOW Wrestling - ECPv6.9.0//NONSGML v1.0//EN
CALSCALE:GREGORIAN
METHOD:PUBLISH
X-ORIGINAL-URL:https://kapowwrestling.co.uk
X-WR-CALDESC:Events for KAPOW Wrestling
REFRESH-INTERVAL;VALUE=DURATION:PT1H
X-Robots-Tag:noindex
X-PUBLISHED-TTL:PT1H
BEGIN:VTIMEZONE
TZID:UTC
BEGIN:STANDARD
TZOFFSETFROM:+0000
TZOFFSETTO:+0000
TZNAME:UTC
DTSTART:20250101T000000
END:STANDARD
END:VTIMEZONE
BEGIN:VEVENT
DTSTART;TZID=UTC:20250309T144500
DTEND;TZID=UTC:20250309T170000
DTSTAMP:20260424T220754
CREATED:20250101T103029Z
LAST-MODIFIED:20250101T104705Z
UID:28027-1741531500-1741539600@kapowwrestling.co.uk
SUMMARY:Live Wrestling comes to Betchworth.
DESCRIPTION:Experience the Thrill of Live Wrestling in Betchworth!\nFor the first time ever\, Betchworth Village Hall is set to host an action-packed wrestling extravaganza that’s perfect for the whole family!\n Date: Sunday\, March 9th Time: Doors open at 14:45 Venue: Betchworth Village Hall\nPrepare for an afternoon filled with:• High-Flying Moves: Watch in awe as our wrestlers perform spectacular aerial maneuvers.• Intense Showdowns: Cheer for your heroes and boo the villains in matches that will keep you on the edge of your seat.• Family-Friendly Fun: An event designed for fans of all ages\, ensuring an unforgettable experience for everyone.\nIf you’re a fan of WWE\, this live event will bring you even closer to the heart-pounding excitement of professional wrestling.\n Important Ticket Information:• No Physical Tickets Will Be Issued: To streamline your experience\, we are not sending out physical tickets for this event.• Proof of Purchase Required: Please bring a copy of your purchase receipt—either printed or on your mobile device—as proof of entry.\nTickets are limited\, so secure yours now and be part of this historic event in Betchworth!
URL:https://kapowwrestling.co.uk/event/live-wrestling-comes-to-betchworth/
LOCATION:Betchworth Village Hall\, Station Road\, Betchworth\, RH3 7DF
END:VEVENT
END:VCALENDAR