BEGIN:VCALENDAR
VERSION:2.0
PRODID:-//KAPOW Wrestling - ECPv6.9.0//NONSGML v1.0//EN
CALSCALE:GREGORIAN
METHOD:PUBLISH
X-WR-CALNAME:KAPOW Wrestling
X-ORIGINAL-URL:https://kapowwrestling.co.uk
X-WR-CALDESC:Events for KAPOW Wrestling
REFRESH-INTERVAL;VALUE=DURATION:PT1H
X-Robots-Tag:noindex
X-PUBLISHED-TTL:PT1H
BEGIN:VTIMEZONE
TZID:UTC
BEGIN:STANDARD
TZOFFSETFROM:+0000
TZOFFSETTO:+0000
TZNAME:UTC
DTSTART:20250101T000000
END:STANDARD
END:VTIMEZONE
BEGIN:VEVENT
DTSTART;TZID=UTC:20250411T183000
DTEND;TZID=UTC:20250411T210000
DTSTAMP:20260424T163502
CREATED:20250101T114901Z
LAST-MODIFIED:20250101T115140Z
UID:28054-1744396200-1744405200@kapowwrestling.co.uk
SUMMARY:Live Wrestling back in Dronfield
DESCRIPTION:🔥 KAPOW & SWF WRESTLING ARE BACK AT DRONFIELD CIVIC HALL! 🔥 \nDronfield\, get ready—Kapow and SWF Wrestling are back in town for another unforgettable night of explosive\, high-energy wrestling! This is your chance to experience jaw-dropping tag team battles\, high-flying one-on-one showdowns\, and enough hard-hitting\, high-octane action to leave you on the edge of your seat! \n🔥 UNREAL WRESTLING\, UNBEATABLE ENTERTAINMENT! 🔥\nWith top-tier talent and the most insane moves you’ll ever witness\, this is the best wrestling in the UK\, and it’s all happening right here at Dronfield Civic Hall. If you’ve been before\, you know what to expect—if not\, prepare yourself for the most thrilling night of your life! \n🎉 CELEBRATING A SPECIAL OCCASION? 🎉\nWant to make your night even more EPIC? Whether it’s a birthday\, anniversary\, or any celebration\, we’ve got exclusive party packages that will take your experience to the next level. Make it a night to remember! \n🎟️ TICKET INFO:\nWe don’t send out physical tickets\, so simply bring your receipt as proof of purchase and get ready for a night of non-stop\, action-packed entertainment! \nThis is the BEST show in town—grab your tickets NOW before they sell out\, and get ready to witness the ultimate wrestling showdown at Dronfield Civic Hall!
URL:https://kapowwrestling.co.uk/event/live-wrestling-back-in-dronfield/
LOCATION:Dronfield Civic Hall\, Unit 9 Civic Centre\, Dronfield\, S18 1PD
END:VEVENT
END:VCALENDAR