BEGIN:VCALENDAR
VERSION:2.0
PRODID:-//KAPOW Wrestling - ECPv6.9.0//NONSGML v1.0//EN
CALSCALE:GREGORIAN
METHOD:PUBLISH
X-ORIGINAL-URL:https://kapowwrestling.co.uk
X-WR-CALDESC:Events for KAPOW Wrestling
REFRESH-INTERVAL;VALUE=DURATION:PT1H
X-Robots-Tag:noindex
X-PUBLISHED-TTL:PT1H
BEGIN:VTIMEZONE
TZID:UTC
BEGIN:STANDARD
TZOFFSETFROM:+0000
TZOFFSETTO:+0000
TZNAME:UTC
DTSTART:20250101T000000
END:STANDARD
END:VTIMEZONE
BEGIN:VEVENT
DTSTART;TZID=UTC:20250413T140000
DTEND;TZID=UTC:20250413T163000
DTSTAMP:20260424T162844
CREATED:20250101T120907Z
LAST-MODIFIED:20250101T131220Z
UID:28068-1744552800-1744561800@kapowwrestling.co.uk
SUMMARY:Live Wrestling back in Stocksbridge
DESCRIPTION:🔥 KAPOW & SWF WRESTLING ARE BACK AT THE VENUE\, STOCKBRIDGE! 🔥 \nStockbridge\, get ready! Kapow and SWF Wrestling are returning for another unforgettable afternoon of explosive\, high-energy wrestling! Brace yourself for jaw-dropping tag team battles\, high-flying one-on-one showdowns\, and enough hard-hitting\, high-octane action to keep you on the edge of your seat! \n🔥 UNREAL WRESTLING\, UNBEATABLE ENTERTAINMENT! 🔥\nWith top-tier talent and the most insane moves you’ll ever witness\, this is the best wrestling in the UK\, and it’s all happening right here at The Venue\, Stockbridge. If you’ve been before\, you know what to expect—if not\, get ready for the most thrilling night of your life! \n🎉 CELEBRATING A SPECIAL OCCASION? 🎉\nMake your night even more EPIC! Whether it’s a birthday\, anniversary\, or any occasion worth celebrating\, we’ve got exclusive party packages to take your experience to the next level. Let’s make it a night you’ll never forget! \n🎟️ TICKET INFO:\nWe don’t send out physical tickets\, so simply bring your receipt as proof of purchase and get ready for a night of non-stop\, action-packed entertainment! \nThis is the BEST show in town—grab your tickets NOW before they sell out\, and get ready to witness the ultimate wrestling showdown at The Venue\, Stockbridge!
URL:https://kapowwrestling.co.uk/event/live-wrestling-back-in-stocksbridge-2/
LOCATION:The Venue\, Manchester Road\, Sheffield\, S36 1DY
END:VEVENT
END:VCALENDAR