BEGIN:VCALENDAR
VERSION:2.0
PRODID:-//KAPOW Wrestling - ECPv6.9.0//NONSGML v1.0//EN
CALSCALE:GREGORIAN
METHOD:PUBLISH
X-WR-CALNAME:KAPOW Wrestling
X-ORIGINAL-URL:https://kapowwrestling.co.uk
X-WR-CALDESC:Events for KAPOW Wrestling
REFRESH-INTERVAL;VALUE=DURATION:PT1H
X-Robots-Tag:noindex
X-PUBLISHED-TTL:PT1H
BEGIN:VTIMEZONE
TZID:UTC
BEGIN:STANDARD
TZOFFSETFROM:+0000
TZOFFSETTO:+0000
TZNAME:UTC
DTSTART:20250101T000000
END:STANDARD
END:VTIMEZONE
BEGIN:VEVENT
DTSTART;TZID=UTC:20250301T183000
DTEND;TZID=UTC:20250301T210000
DTSTAMP:20260424T162814
CREATED:20250101T080027Z
LAST-MODIFIED:20250101T111951Z
UID:27492-1740853800-1740862800@kapowwrestling.co.uk
SUMMARY:Live Wrestling Back in Godalming
DESCRIPTION:Get Ready for an Action-Packed Family Night at Godalming Borough Hall!\nBring the whole family out for an unforgettable evening of wrestling that promises fun\, excitement\, and non-stop action! \nKapow and SWF are back\, and they’re bringing an incredible lineup of the UK’s best wrestlers for an evening of thrilling one-on-one and tag team battles. With hard-hitting\, high-flying action\, this is a night of entertainment that everyone—young and old—will love! \nWhether you’re a wrestling fan or it’s your first time\, there’s something for everyone: the adrenaline of the matches\, the larger-than-life personalities\, and the thrilling atmosphere make it the perfect family event. \nCelebrating a special occasion? 🎉\nBirthday\, anniversary\, or any milestone event? Let us know\, and we’ll make your night even more memorable with a little extra special surprise for you and your party! \nImportant Info:\nWe do not send out physical tickets. Please keep your purchase receipt handy and bring it along for entry.
URL:https://kapowwrestling.co.uk/event/live-wrestling-back-in-godalming-2/
LOCATION:Godalming Borough Hall\, The Burys\, Godalming\, Surrey\, GU7 1HY
END:VEVENT
BEGIN:VEVENT
DTSTART;TZID=UTC:20250302T140000
DTEND;TZID=UTC:20250302T163000
DTSTAMP:20260424T162814
CREATED:20250101T000000Z
LAST-MODIFIED:20241226T173408Z
UID:27838-1740924000-1740933000@kapowwrestling.co.uk
SUMMARY:Live Wrestling back in Salisbury
DESCRIPTION:Get Ready for an Action-Packed Family afternoon at Five Rivers Leisure centre!\nBring the whole family out for an unforgettable evening of wrestling that promises fun\, excitement\, and non-stop action! \nKapow and SWF are back\, and they’re bringing an incredible lineup of the UK’s best wrestlers for an evening of thrilling one-on-one and tag team battles. With hard-hitting\, high-flying action\, this is a night of entertainment that everyone—young and old—will love! \nWhether you’re a wrestling fan or it’s your first time\, there’s something for everyone: the adrenaline of the matches\, the larger-than-life personalities\, and the thrilling atmosphere make it the perfect family event. \nCelebrating a special occasion? 🎉\nBirthday\, anniversary\, or any milestone event? Let us know\, and we’ll make your night even more memorable with a little extra special surprise for you and your party! \nImportant Info:\nWe do not send out physical tickets. Please keep your purchase receipt handy and bring it along for entry.
URL:https://kapowwrestling.co.uk/event/live-wrestling-back-in-salisbury-2/
LOCATION:Five Rivers Leisure Centre\, Hulse road\, Salisbury\, SP1 3NR
END:VEVENT
BEGIN:VEVENT
DTSTART;TZID=UTC:20250308T190000
DTEND;TZID=UTC:20250308T213000
DTSTAMP:20260424T162814
CREATED:20250101T000017Z
LAST-MODIFIED:20241231T145406Z
UID:27848-1741460400-1741469400@kapowwrestling.co.uk
SUMMARY:Live Wrestling comes to Coulsdon
DESCRIPTION:Get Ready for an action-Packed Family evening at Coulsdon Community centre!\nBring the whole family out for an unforgettable evening of wrestling that promises fun\, excitement\, and non-stop action! \nKapow and SWF are back\, and they’re bringing an incredible lineup of the UK’s best wrestlers for an evening of thrilling one-on-one and tag team battles. With hard-hitting\, high-flying action\, this is a night of entertainment that everyone—young and old—will love! \nWhether you’re a wrestling fan or it’s your first time\, there’s something for everyone: the adrenaline of the matches\, the larger-than-life personalities\, and the thrilling atmosphere make it the perfect family event. \nCelebrating a special occasion? 🎉\nBirthday\, anniversary\, or any milestone event? Let us know\, and we’ll make your night even more memorable with a little extra special surprise for you and your party! \nImportant Info:\nWe do not send out physical tickets. Please keep your purchase receipt handy and bring it along for entry.
URL:https://kapowwrestling.co.uk/event/live-wrestling-comes-to-coulsdon/
LOCATION:Coulsdon Community Centre\, Barrie Close\, Coulsdon\, CR5 3BX
END:VEVENT
BEGIN:VEVENT
DTSTART;TZID=UTC:20250309T144500
DTEND;TZID=UTC:20250309T170000
DTSTAMP:20260424T162814
CREATED:20250101T103029Z
LAST-MODIFIED:20250101T104705Z
UID:28027-1741531500-1741539600@kapowwrestling.co.uk
SUMMARY:Live Wrestling comes to Betchworth.
DESCRIPTION:Experience the Thrill of Live Wrestling in Betchworth!\nFor the first time ever\, Betchworth Village Hall is set to host an action-packed wrestling extravaganza that’s perfect for the whole family!\n Date: Sunday\, March 9th Time: Doors open at 14:45 Venue: Betchworth Village Hall\nPrepare for an afternoon filled with:• High-Flying Moves: Watch in awe as our wrestlers perform spectacular aerial maneuvers.• Intense Showdowns: Cheer for your heroes and boo the villains in matches that will keep you on the edge of your seat.• Family-Friendly Fun: An event designed for fans of all ages\, ensuring an unforgettable experience for everyone.\nIf you’re a fan of WWE\, this live event will bring you even closer to the heart-pounding excitement of professional wrestling.\n Important Ticket Information:• No Physical Tickets Will Be Issued: To streamline your experience\, we are not sending out physical tickets for this event.• Proof of Purchase Required: Please bring a copy of your purchase receipt—either printed or on your mobile device—as proof of entry.\nTickets are limited\, so secure yours now and be part of this historic event in Betchworth!
URL:https://kapowwrestling.co.uk/event/live-wrestling-comes-to-betchworth/
LOCATION:Betchworth Village Hall\, Station Road\, Betchworth\, RH3 7DF
END:VEVENT
BEGIN:VEVENT
DTSTART;TZID=UTC:20250314T183000
DTEND;TZID=UTC:20250314T210000
DTSTAMP:20260424T162814
CREATED:20241110T093348Z
LAST-MODIFIED:20250101T092908Z
UID:26818-1741977000-1741986000@kapowwrestling.co.uk
SUMMARY:Live Wrestling back in Gosport- Raging Rumble match
DESCRIPTION:🔥 THE BIGGEST SHOW IN TOWN RETURNS! 🔥 \nKapow and SWF are BACK at Thorngate Halls for the most explosive night of wrestling you’ll EVER experience! This isn’t just a wrestling show—this is a full-throttle\, heart-pounding event that will have you on the edge of your seat from start to finish! \n💥 MAIN EVENT: The Raging Rumble! 💥\n20 of the toughest\, most fearless competitors will battle it out in a RAGING OVER-THE-TOP ROPE ELIMINATION RUMBLE! The stakes are high\, the action is relentless\, and only one wrestler will walk out victorious with a championship challenge of their choice! \nBut that’s just the beginning! Get ready for jaw-dropping tag team showdowns\, high-flying one-on-one battles\, and enough hard-hitting\, high-octane action to leave you breathless! The best wrestling in the UK is coming to Thorngate Halls—and you don’t want to miss it! \n🎉 CELEBRATING A SPECIAL OCCASION? 🎉\nLooking to make your night even more epic? Whether it’s a birthday\, anniversary\, or any occasion worth celebrating\, we’ve got special packages to make your experience one for the history books. We’ll take your party to the next level! \n🎟️ TICKET INFO:\nWe don’t send out physical tickets\, so make sure you bring your receipt as proof of purchase and get ready to witness the ultimate wrestling showdown! \nThis is the BIGGEST show in town—grab your tickets now\, and get ready for the night of your life!
URL:https://kapowwrestling.co.uk/event/live-wrestling-back-in-gosport-raging-rumble-match/
LOCATION:Thorngate Hall Members Bar\, 71 Bury Road\, Gosport\, PO12 3QX
END:VEVENT
BEGIN:VEVENT
DTSTART;TZID=UTC:20250315T183000
DTEND;TZID=UTC:20250315T210000
DTSTAMP:20260424T162814
CREATED:20241208T130138Z
LAST-MODIFIED:20250101T110359Z
UID:27561-1742063400-1742072400@kapowwrestling.co.uk
SUMMARY:Live Wrestling back in Worthing
DESCRIPTION:Get Ready for an EPIC Family Night at St. Oscar Romero School! 🎉\nGrab the whole crew and get ready for a thrilling night of high-flying\, hard-hitting wrestling action that’ll have you on the edge of your seat! 💥 Whether you’re a wrestling superfan or a first-timer\, this is the perfect event for all ages—packed with adrenaline\, drama\, and plenty of unforgettable moments! \nKapow and SWF are back and bringing the UK’s best wrestlers for a showdown you won’t want to miss. From one-on-one battles to tag team chaos\, the action will be nonstop as the stars of the ring throw down in epic style. 👊 \nBut wait… it gets better! 🍔🍻\nWe’re not just about wrestling; we’re about making your night AWESOME! Enjoy delicious hot food to fuel you up and a full bar to keep the good times rolling all night long. Whether you’re craving a burger\, some snacks\, or a cold drink\, we’ve got you covered. \nPerfect for Families!\nExpect larger-than-life personalities\, over-the-top moves\, and plenty of fun for everyone—young and old! This is the kind of action-packed event that’ll have the whole family talking for weeks. \nCelebrating something special? 🎂\nWhether it’s a birthday\, anniversary\, or any milestone\, let us know! We’ll add a little extra magic to your night to make it one you’ll never forget. 🎈 \nQuick Reminder:\nWe don’t send physical tickets\, so just keep your purchase receipt handy for entry. Let’s make this a night to remember!Ready to rumble? We’ll see you there! 🤼‍♂️🔥
URL:https://kapowwrestling.co.uk/event/27561/
LOCATION:St Oscar Romero School\, Goring Street\, Goring By Sea\, West sussex\, BN12 5AF
END:VEVENT
BEGIN:VEVENT
DTSTART;TZID=UTC:20250315T183000
DTEND;TZID=UTC:20250315T210000
DTSTAMP:20260424T162814
CREATED:20241208T130831Z
LAST-MODIFIED:20250101T105524Z
UID:27573-1742063400-1742072400@kapowwrestling.co.uk
SUMMARY:Live Wrestling back in Epsom
DESCRIPTION:Get Ready for a FUN-tastic Family Night at Bourne Hall! 🎉\nIt’s time to gather the whole family for an action-packed evening that’s sure to be a blast! Whether you’re a wrestling fan or just looking for a night of excitement\, we’ve got you covered with Kapow and SWF bringing you the best of the UK’s wrestling stars. Get ready for jaw-dropping\, high-flying moves and thrilling one-on-one and tag team battles that will have you cheering from your seat! 🤼‍♂️💥 \nThis isn’t just any wrestling event—this is a night of non-stop FUN for everyone! With larger-than-life personalities\, thrilling action\, and a fantastic atmosphere\, it’s the perfect event for kids and adults alike. Whether you’ve seen it all or this is your first time\, the excitement is contagious! \nGot a Special Celebration? 🎂🎉\nWhether you’re celebrating a birthday\, anniversary\, or any milestone\, we’d love to make it extra special! Let us know\, and we’ll add a surprise to make your night even more memorable. \nA Few Quick Notes:\nWe don’t send out physical tickets\, so make sure to keep your purchase receipt handy to gain entry. \nBring your family\, bring your energy\, and let’s make this a night to remember! We can’t wait to see you there! 🌟
URL:https://kapowwrestling.co.uk/event/live-wrestling-back-in-epsom/
LOCATION:Bourne hall\, Spring Street\, Ewell\, KT17 1UF
END:VEVENT
END:VCALENDAR